BEGIN:VCALENDAR
PRODID:-//Mozilla.org/NONSGML Mozilla Calendar V1.1//EN
VERSION:2.0
CALSCALE:GREGORIAN
BEGIN:VEVENT
DTSTAMP:20260421T011832Z
DTSTART:20260421T200000
DTEND:20260421T203000
SUMMARY:2025 MITSUBISHI L200 TRITON 
LOCATION:http://www.copart.com.br:80
DESCRIPTION:Please join us for the following auction:\n\n2025 MITSUBISHI 
 L200 TRITON \nwww.copart.com.br\n\n\n\nContact us at member.services@cop
 art.com or (972) 391-5400 if you have any questions leading up to the au
 ction.\n\n\n-Your Copart Team
UID:20260421T011832Z-uidGen@lvpbaw213.corp.copart.com
END:VEVENT
END:VCALENDAR
